BEGIN:VCALENDAR
VERSION:2.0
PRODID:-//Squarespace Inc/Squarespace 6//v6//EN
BEGIN:VEVENT
UID:5b46e65070a6ad5986be62a0@squarespace.com
DTSTAMP:20180927T001600Z
DTSTART:20180808T000000Z
DTEND:20180930T070000Z
SUMMARY:Montsalvat Wedding Open Day
END:VEVENT
END:VCALENDAR
