BEGIN:VCALENDAR
VERSION:2.0
PRODID:-//Squarespace Inc/Squarespace 6//v6//EN
BEGIN:VEVENT
UID:5c0f0df940ec9ab15f958673@squarespace.com
DTSTAMP:20181211T062742Z
DTSTART:20190109T220000Z
DTEND:20190203T060000Z
SUMMARY:EXHIBITION: Polly Hollyoak - Cacophony
END:VEVENT
END:VCALENDAR
