BEGIN:VCALENDAR
VERSION:2.0
PRODID:-//Squarespace Inc/Squarespace 6//v6//EN
BEGIN:VEVENT
UID:5c40010221c67c270d5a117b@squarespace.com
DTSTAMP:20190201T040807Z
DTSTART:20190323T220000Z
DTEND:20190630T060000Z
SUMMARY:EXHIBITION: Aldo Bilotta - Art Machine 
END:VEVENT
END:VCALENDAR
