BEGIN:VCALENDAR
VERSION:2.0
PRODID:-//Squarespace Inc/Squarespace 6//v6//EN
BEGIN:VEVENT
UID:5c46858288251ba079720364@squarespace.com
DTSTAMP:20190128T231616Z
DTSTART:20190323T030000Z
DTEND:20191026T040000Z
SUMMARY:CONCERT SERIES: Trio Anima Mundi
END:VEVENT
END:VCALENDAR
