BEGIN:VCALENDAR
VERSION:2.0
PRODID:-//Squarespace Inc/Squarespace 6//v6//EN
BEGIN:VEVENT
UID:5c12e6a14d7a9c93cd265545@squarespace.com
DTSTAMP:20190107T014432Z
DTSTART:20190108T230000Z
DTEND:20190120T060000Z
SUMMARY:EXHIBITION: Gillian Lever - Sustain and release
END:VEVENT
END:VCALENDAR
