BEGIN:VCALENDAR
VERSION:2.0
PRODID:-//Squarespace Inc/Squarespace 6//v6//EN
BEGIN:VEVENT
UID:5c6b72b0a4222f3378315ddc@squarespace.com
DTSTAMP:20190224T235220Z
DTSTART:20190222T220000Z
DTEND:20190317T060000Z
SUMMARY:EXHIBITION: Mana Aghajary - Secret Garden
END:VEVENT
END:VCALENDAR
