BEGIN:VCALENDAR
VERSION:2.0
PRODID:-//Squarespace Inc/Squarespace 6//v6//EN
BEGIN:VEVENT
UID:5c60eabf6e9a7f5815081015@squarespace.com
DTSTAMP:20190211T034334Z
DTSTART:20190224T033000Z
DTEND:20190224T043000Z
SUMMARY:CONCERT: Flinders Quartet - Quartet
END:VEVENT
END:VCALENDAR
