BEGIN:VCALENDAR
VERSION:2.0
PRODID:-//Squarespace Inc/Squarespace 6//v6//EN
BEGIN:VEVENT
UID:5c7333a78165f58920d18158@squarespace.com
DTSTAMP:20190225T002955Z
DTSTART:20190403T220000Z
DTEND:20190428T070000Z
SUMMARY:EXHIBITION: Belinda Rogers
END:VEVENT
END:VCALENDAR
