BEGIN:VCALENDAR
VERSION:2.0
PRODID:-//Squarespace Inc/Squarespace 6//v6//EN
BEGIN:VEVENT
UID:5c257e620ebbe80fd15efb15@squarespace.com
DTSTAMP:20190228T034518Z
DTSTART:20181108T103000Z
DTEND:20190228T103000Z
SUMMARY:PUESTA DEL SOL
END:VEVENT
END:VCALENDAR
