BEGIN:VCALENDAR
VERSION:2.0
PRODID:-//Squarespace Inc/Squarespace 6//v6//EN
BEGIN:VEVENT
UID:5c23f99c03ce64fe0464d2bc@squarespace.com
DTSTAMP:20190206T224721Z
DTSTART:20190206T220000Z
DTEND:20190303T060000Z
SUMMARY:EXHIBITION: Anna Farago - #daddyasbirds
END:VEVENT
END:VCALENDAR
