BEGIN:VCALENDAR
VERSION:2.0
PRODID:-//Squarespace Inc/Squarespace 6//v6//EN
BEGIN:VEVENT
UID:5c1c6292575d1fc9c1306eb2@squarespace.com
DTSTAMP:20181221T040226Z
DTSTART:20190208T220000Z
DTEND:20190430T070000Z
SUMMARY:EXHIBITION: Gwen Scott - Patterned reposes
END:VEVENT
END:VCALENDAR
