BEGIN:VCALENDAR
VERSION:2.0
PRODID:-//Squarespace Inc/Squarespace 6//v6//EN
BEGIN:VEVENT
UID:5c73662ee2c483c9fc816816@squarespace.com
DTSTAMP:20190225T044052Z
DTSTART:20190320T220000Z
DTEND:20190414T070000Z
SUMMARY:EXHIBITION: Kate Cross - Still Life Paintings
END:VEVENT
END:VCALENDAR
