BEGIN:VCALENDAR
VERSION:2.0
PRODID:-//Squarespace Inc/Squarespace 6//v6//EN
BEGIN:VEVENT
UID:5c57ab46104c7b514763c92c@squarespace.com
DTSTAMP:20190227T060819Z
DTSTART:20190206T060000Z
DTEND:20190303T060000Z
SUMMARY:CONCERT: Marimba &amp\; Shakuhachi
END:VEVENT
END:VCALENDAR
