BEGIN:VCALENDAR
VERSION:2.0
PRODID:-//Squarespace Inc/Squarespace 6//v6//EN
BEGIN:VEVENT
UID:5c6b76dd71c10bf899833d91@squarespace.com
DTSTAMP:20190219T035757Z
DTSTART:20190306T220000Z
DTEND:20190331T060000Z
SUMMARY:EXHIBITION: Samantha Thompson - Recent Works
END:VEVENT
END:VCALENDAR
