BEGIN:VCALENDAR
VERSION:2.0
PRODID:-//Squarespace Inc/Squarespace 6//v6//EN
BEGIN:VEVENT
UID:5c6a4056fa0d603257460c05@squarespace.com
DTSTAMP:20190218T061718Z
DTSTART:20190428T070000Z
DTEND:20190428T080000Z
SUMMARY:CONCERT:  Laura Vaughn - Viola de Gamba
END:VEVENT
END:VCALENDAR
